BEGIN:VCALENDAR
VERSION:2.0
PRODID:-//Friends of North Saanich Parks - ECPv6.15.15//NONSGML v1.0//EN
CALSCALE:GREGORIAN
METHOD:PUBLISH
X-WR-CALNAME:Friends of North Saanich Parks
X-ORIGINAL-URL:https://www.fnsp.ca
X-WR-CALDESC:Events for Friends of North Saanich Parks
REFRESH-INTERVAL;VALUE=DURATION:PT1H
X-Robots-Tag:noindex
X-PUBLISHED-TTL:PT1H
BEGIN:VTIMEZONE
TZID:America/Vancouver
BEGIN:DAYLIGHT
TZOFFSETFROM:-0800
TZOFFSETTO:-0700
TZNAME:PDT
DTSTART:20220313T100000
END:DAYLIGHT
BEGIN:STANDARD
TZOFFSETFROM:-0700
TZOFFSETTO:-0800
TZNAME:PST
DTSTART:20221106T090000
END:STANDARD
BEGIN:DAYLIGHT
TZOFFSETFROM:-0800
TZOFFSETTO:-0700
TZNAME:PDT
DTSTART:20230312T100000
END:DAYLIGHT
BEGIN:STANDARD
TZOFFSETFROM:-0700
TZOFFSETTO:-0800
TZNAME:PST
DTSTART:20231105T090000
END:STANDARD
BEGIN:DAYLIGHT
TZOFFSETFROM:-0800
TZOFFSETTO:-0700
TZNAME:PDT
DTSTART:20240310T100000
END:DAYLIGHT
BEGIN:STANDARD
TZOFFSETFROM:-0700
TZOFFSETTO:-0800
TZNAME:PST
DTSTART:20241103T090000
END:STANDARD
END:VTIMEZONE
BEGIN:VEVENT
DTSTART;TZID=America/Vancouver:20231202T100000
DTEND;TZID=America/Vancouver:20231202T140000
DTSTAMP:20260422T094907
CREATED:20231005T190409Z
LAST-MODIFIED:20231010T181940Z
UID:484-1701511200-1701525600@www.fnsp.ca
SUMMARY:R.O. Bull Work Party
DESCRIPTION:Come to our flagship park to hunt for and remove the scattered invasive plants that have regrown since last year.
URL:https://www.fnsp.ca/event/r-o-bull-work-party/
LOCATION:R.O. Bull Park
CATEGORIES:Work Party
END:VEVENT
BEGIN:VEVENT
DTSTART;TZID=America/Vancouver:20231209T170000
DTEND;TZID=America/Vancouver:20231209T200000
DTSTAMP:20260422T094907
CREATED:20231005T191016Z
LAST-MODIFIED:20231010T181940Z
UID:488-1702141200-1702152000@www.fnsp.ca
SUMMARY:Convivial Potluck Party
DESCRIPTION:Join us in the St. John’s United Church basement for some eats\, treats\, and fun seasonal sweaters! Don’t miss it!
URL:https://www.fnsp.ca/event/convivial-potluck-party/
CATEGORIES:Work Party
END:VEVENT
END:VCALENDAR