BEGIN:VCALENDAR
VERSION:2.0
PRODID:-//Friends of North Saanich Parks - ECPv6.15.15//NONSGML v1.0//EN
CALSCALE:GREGORIAN
METHOD:PUBLISH
X-ORIGINAL-URL:https://www.fnsp.ca
X-WR-CALDESC:Events for Friends of North Saanich Parks
REFRESH-INTERVAL;VALUE=DURATION:PT1H
X-Robots-Tag:noindex
X-PUBLISHED-TTL:PT1H
BEGIN:VTIMEZONE
TZID:America/Vancouver
BEGIN:DAYLIGHT
TZOFFSETFROM:-0800
TZOFFSETTO:-0700
TZNAME:PDT
DTSTART:20230312T100000
END:DAYLIGHT
BEGIN:STANDARD
TZOFFSETFROM:-0700
TZOFFSETTO:-0800
TZNAME:PST
DTSTART:20231105T090000
END:STANDARD
BEGIN:DAYLIGHT
TZOFFSETFROM:-0800
TZOFFSETTO:-0700
TZNAME:PDT
DTSTART:20240310T100000
END:DAYLIGHT
BEGIN:STANDARD
TZOFFSETFROM:-0700
TZOFFSETTO:-0800
TZNAME:PST
DTSTART:20241103T090000
END:STANDARD
BEGIN:DAYLIGHT
TZOFFSETFROM:-0800
TZOFFSETTO:-0700
TZNAME:PDT
DTSTART:20250309T100000
END:DAYLIGHT
BEGIN:STANDARD
TZOFFSETFROM:-0700
TZOFFSETTO:-0800
TZNAME:PST
DTSTART:20251102T090000
END:STANDARD
END:VTIMEZONE
BEGIN:VEVENT
DTSTART;TZID=America/Vancouver:20240810T100000
DTEND;TZID=America/Vancouver:20240810T140000
DTSTAMP:20260419T155433
CREATED:20240613T183321Z
LAST-MODIFIED:20240613T183321Z
UID:721-1723284000-1723298400@www.fnsp.ca
SUMMARY:Lillian Hoffar Park Work Party
DESCRIPTION:
URL:https://www.fnsp.ca/event/lillian-hoffar-park-work-party-4/
END:VEVENT
BEGIN:VEVENT
DTSTART;TZID=America/Vancouver:20240817T100000
DTEND;TZID=America/Vancouver:20240817T140000
DTSTAMP:20260419T155433
CREATED:20240613T183359Z
LAST-MODIFIED:20240613T183359Z
UID:723-1723888800-1723903200@www.fnsp.ca
SUMMARY:Green Park Work Party
DESCRIPTION:
URL:https://www.fnsp.ca/event/green-park-work-party-6/
END:VEVENT
BEGIN:VEVENT
DTSTART;TZID=America/Vancouver:20240824T100000
DTEND;TZID=America/Vancouver:20240824T140000
DTSTAMP:20260419T155433
CREATED:20240613T183447Z
LAST-MODIFIED:20240613T183447Z
UID:725-1724493600-1724508000@www.fnsp.ca
SUMMARY:Reay Creek Park Work Party
DESCRIPTION:
URL:https://www.fnsp.ca/event/reay-creek-park-work-party-3/
END:VEVENT
END:VCALENDAR